Package: LymphoSeq Version: 1.34.0 Command: /Library/Frameworks/R.framework/Resources/bin/R CMD build --keep-empty-dirs --no-resave-data LymphoSeq StartedAt: 2025-02-04 02:22:07 -0500 (Tue, 04 Feb 2025) EndedAt: 2025-02-04 02:23:36 -0500 (Tue, 04 Feb 2025) EllapsedTime: 89.1 seconds RetCode: 0 Status: OK PackageFile: LymphoSeq_1.34.0.tar.gz PackageFileSize: 2.357 MiB