Package: LymphoSeq Version: 1.34.0 Command: rm -rf LymphoSeq.buildbin-libdir && mkdir LymphoSeq.buildbin-libdir && /Users/biocbuild/BBS/utils/build-universal.sh LymphoSeq_1.34.0.tar.gz /Library/Frameworks/R.framework/Resources/bin/R LymphoSeq.buildbin-libdir StartedAt: 2025-02-04 13:18:28 -0500 (Tue, 04 Feb 2025) EndedAt: 2025-02-04 13:19:36 -0500 (Tue, 04 Feb 2025) EllapsedTime: 67.9 seconds RetCode: 0 Status: OK PackageFile: LymphoSeq_1.34.0.tgz PackageFileSize: 2.484 MiB