Package: LymphoSeq Version: 1.34.0 Command: /Library/Frameworks/R.framework/Resources/bin/R CMD build --keep-empty-dirs --no-resave-data LymphoSeq StartedAt: 2025-02-03 19:58:19 -0500 (Mon, 03 Feb 2025) EndedAt: 2025-02-03 20:00:20 -0500 (Mon, 03 Feb 2025) EllapsedTime: 120.3 seconds RetCode: 0 Status: OK PackageFile: LymphoSeq_1.34.0.tar.gz PackageFileSize: 2.356 MiB