Package: LymphoSeq Version: 1.34.0 Command: /home/biocbuild/bbs-3.20-bioc/R/bin/R CMD INSTALL LymphoSeq StartedAt: 2025-01-30 15:26:47 -0500 (Thu, 30 Jan 2025) EndedAt: 2025-01-30 15:27:04 -0500 (Thu, 30 Jan 2025) EllapsedTime: 16.8 seconds RetCode: 0 Status: OK