Package: LymphoSeq Version: 1.34.0 Command: chmod a+r LymphoSeq -R && F:\biocbuild\bbs-3.20-bioc\R\bin\R.exe CMD build --keep-empty-dirs --no-resave-data LymphoSeq StartedAt: 2025-02-03 20:04:55 -0500 (Mon, 03 Feb 2025) EndedAt: 2025-02-03 20:06:30 -0500 (Mon, 03 Feb 2025) EllapsedTime: 95.6 seconds RetCode: 0 Status: OK PackageFile: LymphoSeq_1.34.0.tar.gz PackageFileSize: 1.364 MiB