Package: LymphoSeq Version: 1.34.0 Command: /home/biocbuild/R/R/bin/R CMD build --keep-empty-dirs --no-resave-data LymphoSeq StartedAt: 2025-01-31 00:35:38 -0000 (Fri, 31 Jan 2025) EndedAt: 2025-01-31 00:36:56 -0000 (Fri, 31 Jan 2025) EllapsedTime: 78.0 seconds RetCode: 0 Status: OK PackageFile: LymphoSeq_1.34.0.tar.gz PackageFileSize: 1.531 MiB