Package: M3Drop Version: 1.32.0 Command: rm -rf M3Drop.buildbin-libdir && mkdir M3Drop.buildbin-libdir && /Users/biocbuild/BBS/utils/build-universal.sh M3Drop_1.32.0.tar.gz /Library/Frameworks/R.framework/Resources/bin/R M3Drop.buildbin-libdir StartedAt: 2025-02-12 15:41:11 -0500 (Wed, 12 Feb 2025) EndedAt: 2025-02-12 15:41:32 -0500 (Wed, 12 Feb 2025) EllapsedTime: 21.7 seconds RetCode: 0 Status: OK PackageFile: M3Drop_1.32.0.tgz PackageFileSize: 12.5 MiB