Package: M3Drop Version: 1.32.0 Command: /Library/Frameworks/R.framework/Resources/bin/R CMD build --keep-empty-dirs --no-resave-data M3Drop StartedAt: 2025-01-30 20:16:14 -0500 (Thu, 30 Jan 2025) EndedAt: 2025-01-30 20:19:55 -0500 (Thu, 30 Jan 2025) EllapsedTime: 221.0 seconds RetCode: 0 Status: OK PackageFile: M3Drop_1.32.0.tar.gz PackageFileSize: 12.24 MiB