Package: M3Drop Version: 1.32.0 Command: /Library/Frameworks/R.framework/Resources/bin/R CMD INSTALL M3Drop StartedAt: 2025-01-30 16:32:34 -0500 (Thu, 30 Jan 2025) EndedAt: 2025-01-30 16:33:05 -0500 (Thu, 30 Jan 2025) EllapsedTime: 31.4 seconds RetCode: 0 Status: OK