Package: M3Drop Version: 1.32.0 Command: /home/biocbuild/bbs-3.20-bioc/R/bin/R CMD build --keep-empty-dirs --no-resave-data --md5 M3Drop StartedAt: 2025-02-03 18:01:06 -0500 (Mon, 03 Feb 2025) EndedAt: 2025-02-03 18:02:49 -0500 (Mon, 03 Feb 2025) EllapsedTime: 103.1 seconds RetCode: 0 Status: OK PackageFile: M3Drop_1.32.0.tar.gz PackageFileSize: 12.25 MiB