Package: M3Drop Version: 1.32.0 Command: /home/biocbuild/bbs-3.20-bioc/R/bin/R CMD INSTALL M3Drop StartedAt: 2025-02-03 16:01:06 -0500 (Mon, 03 Feb 2025) EndedAt: 2025-02-03 16:01:23 -0500 (Mon, 03 Feb 2025) EllapsedTime: 16.8 seconds RetCode: 0 Status: OK