Package: M3Drop Version: 1.32.0 Command: rm -rf M3Drop.buildbin-libdir && mkdir M3Drop.buildbin-libdir && F:\biocbuild\bbs-3.20-bioc\R\bin\R.exe CMD INSTALL --build --library=M3Drop.buildbin-libdir M3Drop_1.32.0.tar.gz StartedAt: 2025-01-31 08:57:29 -0500 (Fri, 31 Jan 2025) EndedAt: 2025-01-31 08:58:27 -0500 (Fri, 31 Jan 2025) EllapsedTime: 57.9 seconds RetCode: 0 Status: OK PackageFile: M3Drop_1.32.0.zip PackageFileSize: 12.38 MiB