Package: M3Drop Version: 1.32.0 Command: F:\biocbuild\bbs-3.20-bioc\R\bin\R.exe CMD check --no-multiarch --install=check:M3Drop.install-out.txt --library=F:\biocbuild\bbs-3.20-bioc\R\library --no-vignettes --timings M3Drop_1.32.0.tar.gz StartedAt: 2025-01-31 03:27:21 -0500 (Fri, 31 Jan 2025) EndedAt: 2025-01-31 03:34:20 -0500 (Fri, 31 Jan 2025) EllapsedTime: 419.3 seconds RetCode: 0 Status: OK CheckDir: M3Drop.Rcheck Warnings: 0