Package: M3Drop Version: 1.32.0 Command: /home/biocbuild/R/R/bin/R CMD INSTALL M3Drop StartedAt: 2025-02-03 21:15:59 -0000 (Mon, 03 Feb 2025) EndedAt: 2025-02-03 21:16:20 -0000 (Mon, 03 Feb 2025) EllapsedTime: 21.4 seconds RetCode: 0 Status: OK