Package: MADSEQ Version: 1.32.0 Command: rm -rf MADSEQ.buildbin-libdir && mkdir MADSEQ.buildbin-libdir && /Users/biocbuild/BBS/utils/build-universal.sh MADSEQ_1.32.0.tar.gz /Library/Frameworks/R.framework/Resources/bin/R MADSEQ.buildbin-libdir StartedAt: 2025-02-05 16:27:55 -0500 (Wed, 05 Feb 2025) EndedAt: 2025-02-05 16:28:50 -0500 (Wed, 05 Feb 2025) EllapsedTime: 54.9 seconds RetCode: 0 Status: OK PackageFile: MADSEQ_1.32.0.tgz PackageFileSize: 2.404 MiB