Package: MADSEQ Version: 1.32.0 Command: /Library/Frameworks/R.framework/Resources/bin/R CMD build --keep-empty-dirs --no-resave-data MADSEQ StartedAt: 2025-02-04 02:25:54 -0500 (Tue, 04 Feb 2025) EndedAt: 2025-02-04 02:27:24 -0500 (Tue, 04 Feb 2025) EllapsedTime: 90.6 seconds RetCode: 0 Status: OK PackageFile: MADSEQ_1.32.0.tar.gz PackageFileSize: 2.029 MiB