Package: MADSEQ Version: 1.32.0 Command: /Library/Frameworks/R.framework/Resources/bin/R CMD check --install=check:MADSEQ.install-out.txt --library=/Library/Frameworks/R.framework/Resources/library --no-vignettes --timings MADSEQ_1.32.0.tar.gz StartedAt: 2025-02-11 23:51:28 -0500 (Tue, 11 Feb 2025) EndedAt: 2025-02-11 23:57:09 -0500 (Tue, 11 Feb 2025) EllapsedTime: 340.3 seconds RetCode: 0 Status: OK CheckDir: MADSEQ.Rcheck Warnings: 0