Package: MADSEQ Version: 1.32.0 Command: /Library/Frameworks/R.framework/Resources/bin/R CMD build --keep-empty-dirs --no-resave-data MADSEQ StartedAt: 2025-02-03 19:59:16 -0500 (Mon, 03 Feb 2025) EndedAt: 2025-02-03 20:01:51 -0500 (Mon, 03 Feb 2025) EllapsedTime: 155.1 seconds RetCode: 0 Status: OK PackageFile: MADSEQ_1.32.0.tar.gz PackageFileSize: 2.03 MiB