Package: MADSEQ Version: 1.32.0 Command: /home/biocbuild/bbs-3.20-bioc/R/bin/R CMD build --keep-empty-dirs --no-resave-data --md5 MADSEQ StartedAt: 2025-02-10 17:54:13 -0500 (Mon, 10 Feb 2025) EndedAt: 2025-02-10 17:55:18 -0500 (Mon, 10 Feb 2025) EllapsedTime: 65.1 seconds RetCode: 0 Status: OK PackageFile: MADSEQ_1.32.0.tar.gz PackageFileSize: 1.996 MiB