Package: MADSEQ Version: 1.32.0 Command: chmod a+r MADSEQ -R && F:\biocbuild\bbs-3.20-bioc\R\bin\R.exe CMD build --keep-empty-dirs --no-resave-data MADSEQ StartedAt: 2025-02-03 20:05:35 -0500 (Mon, 03 Feb 2025) EndedAt: 2025-02-03 20:07:22 -0500 (Mon, 03 Feb 2025) EllapsedTime: 107.0 seconds RetCode: 0 Status: OK PackageFile: MADSEQ_1.32.0.tar.gz PackageFileSize: 1.87 MiB