Package: MAGAR Version: 1.14.0 Command: chmod a+r MAGAR -R && F:\biocbuild\bbs-3.20-bioc\R\bin\R.exe CMD build --keep-empty-dirs --no-resave-data MAGAR StartedAt: 2025-01-30 19:51:55 -0500 (Thu, 30 Jan 2025) EndedAt: 2025-01-30 19:54:42 -0500 (Thu, 30 Jan 2025) EllapsedTime: 167.1 seconds RetCode: 0 Status: OK PackageFile: MAGAR_1.14.0.tar.gz PackageFileSize: 809.4 KiB