Package: MAGAR Version: 1.14.0 Command: F:\biocbuild\bbs-3.20-bioc\R\bin\R.exe CMD check --no-multiarch --install=check:MAGAR.install-out.txt --library=F:\biocbuild\bbs-3.20-bioc\R\library --no-vignettes --timings MAGAR_1.14.0.tar.gz StartedAt: 2025-01-31 03:29:28 -0500 (Fri, 31 Jan 2025) EndedAt: 2025-01-31 03:38:34 -0500 (Fri, 31 Jan 2025) EllapsedTime: 546.3 seconds RetCode: 0 Status: OK CheckDir: MAGAR.Rcheck Warnings: 0