Package: MAGAR Version: 1.14.0 Command: /home/biocbuild/R/R/bin/R CMD build --keep-empty-dirs --no-resave-data MAGAR StartedAt: 2025-02-04 00:37:09 -0000 (Tue, 04 Feb 2025) EndedAt: 2025-02-04 00:39:31 -0000 (Tue, 04 Feb 2025) EllapsedTime: 142.1 seconds RetCode: 0 Status: OK PackageFile: MAGAR_1.14.0.tar.gz PackageFileSize: 895.8 KiB