Package: MAGAR Version: 1.14.0 Command: /home/biocbuild/R/R/bin/R CMD check --install=check:MAGAR.install-out.txt --library=/home/biocbuild/R/R/site-library --no-vignettes --timings MAGAR_1.14.0.tar.gz StartedAt: 2025-02-04 08:24:00 -0000 (Tue, 04 Feb 2025) EndedAt: 2025-02-04 08:32:52 -0000 (Tue, 04 Feb 2025) EllapsedTime: 531.8 seconds RetCode: 0 Status: OK CheckDir: MAGAR.Rcheck Warnings: 0