Package: MAGeCKFlute Version: 2.10.0 Command: /Library/Frameworks/R.framework/Resources/bin/R CMD INSTALL MAGeCKFlute StartedAt: 2025-02-03 17:33:19 -0500 (Mon, 03 Feb 2025) EndedAt: 2025-02-03 17:33:55 -0500 (Mon, 03 Feb 2025) EllapsedTime: 35.6 seconds RetCode: 0 Status: OK