Package: MAGeCKFlute Version: 2.10.0 Command: /home/biocbuild/R/R/bin/R CMD INSTALL MAGeCKFlute StartedAt: 2025-02-03 21:11:43 -0000 (Mon, 03 Feb 2025) EndedAt: 2025-02-03 21:12:23 -0000 (Mon, 03 Feb 2025) EllapsedTime: 40.4 seconds RetCode: 0 Status: OK