Package: MAIT Version: 1.40.0 Command: /Library/Frameworks/R.framework/Resources/bin/R CMD build --keep-empty-dirs --no-resave-data MAIT StartedAt: 2025-02-04 02:30:15 -0500 (Tue, 04 Feb 2025) EndedAt: 2025-02-04 02:31:46 -0500 (Tue, 04 Feb 2025) EllapsedTime: 90.5 seconds RetCode: 1 Status: ERROR PackageFile: None PackageFileSize: NA