Package: MAIT Version: 1.40.0 Command: /Library/Frameworks/R.framework/Resources/bin/R CMD build --keep-empty-dirs --no-resave-data MAIT StartedAt: 2025-01-30 20:18:29 -0500 (Thu, 30 Jan 2025) EndedAt: 2025-01-30 20:21:45 -0500 (Thu, 30 Jan 2025) EllapsedTime: 196.2 seconds RetCode: 1 Status: ERROR PackageFile: None PackageFileSize: NA