Package: MAIT Version: 1.40.0 Command: /Library/Frameworks/R.framework/Resources/bin/R CMD INSTALL MAIT StartedAt: 2025-01-30 16:27:47 -0500 (Thu, 30 Jan 2025) EndedAt: 2025-01-30 16:29:40 -0500 (Thu, 30 Jan 2025) EllapsedTime: 113.0 seconds RetCode: 0 Status: OK