Package: MAIT Version: 1.40.0 Command: /home/biocbuild/bbs-3.20-bioc/R/bin/R CMD build --keep-empty-dirs --no-resave-data --md5 MAIT StartedAt: 2025-02-10 17:54:43 -0500 (Mon, 10 Feb 2025) EndedAt: 2025-02-10 17:57:23 -0500 (Mon, 10 Feb 2025) EllapsedTime: 160.2 seconds RetCode: 0 Status: OK PackageFile: MAIT_1.40.0.tar.gz PackageFileSize: 2.37 MiB