Package: MAIT Version: 1.40.0 Command: /home/biocbuild/bbs-3.20-bioc/R/bin/R CMD check --install=check:MAIT.install-out.txt --library=/home/biocbuild/bbs-3.20-bioc/R/site-library --timings MAIT_1.40.0.tar.gz StartedAt: 2025-02-03 23:44:24 -0500 (Mon, 03 Feb 2025) EndedAt: 2025-02-03 23:53:03 -0500 (Mon, 03 Feb 2025) EllapsedTime: 519.6 seconds RetCode: 0 Status: OK CheckDir: MAIT.Rcheck Warnings: 0