Package: MAIT Version: 1.40.0 Command: /home/biocbuild/bbs-3.20-bioc/R/bin/R CMD INSTALL MAIT StartedAt: 2025-02-10 15:53:50 -0500 (Mon, 10 Feb 2025) EndedAt: 2025-02-10 15:54:41 -0500 (Mon, 10 Feb 2025) EllapsedTime: 50.3 seconds RetCode: 0 Status: OK