Package: MAIT Version: 1.40.0 Command: F:\biocbuild\bbs-3.20-bioc\R\bin\R.exe CMD check --no-multiarch --install=check:MAIT.install-out.txt --library=F:\biocbuild\bbs-3.20-bioc\R\library --no-vignettes --timings MAIT_1.40.0.tar.gz StartedAt: 2025-02-04 03:19:11 -0500 (Tue, 04 Feb 2025) EndedAt: 2025-02-04 03:27:58 -0500 (Tue, 04 Feb 2025) EllapsedTime: 527.2 seconds RetCode: 0 Status: OK CheckDir: MAIT.Rcheck Warnings: 0