Package: MAIT Version: 1.40.0 Command: F:\biocbuild\bbs-3.20-bioc\R\bin\R.exe CMD INSTALL MAIT StartedAt: 2025-02-03 17:15:30 -0500 (Mon, 03 Feb 2025) EndedAt: 2025-02-03 17:16:34 -0500 (Mon, 03 Feb 2025) EllapsedTime: 63.4 seconds RetCode: 0 Status: OK