Package: MAIT Version: 1.40.0 Command: /home/biocbuild/R/R/bin/R CMD build --keep-empty-dirs --no-resave-data MAIT StartedAt: 2025-02-04 00:37:55 -0000 (Tue, 04 Feb 2025) EndedAt: 2025-02-04 00:41:45 -0000 (Tue, 04 Feb 2025) EllapsedTime: 230.1 seconds RetCode: 0 Status: OK PackageFile: MAIT_1.40.0.tar.gz PackageFileSize: 2.361 MiB