Package: MAIT Version: 1.40.0 Command: /home/biocbuild/R/R/bin/R CMD check --install=check:MAIT.install-out.txt --library=/home/biocbuild/R/R/site-library --no-vignettes --timings MAIT_1.40.0.tar.gz StartedAt: 2025-02-04 08:24:32 -0000 (Tue, 04 Feb 2025) EndedAt: 2025-02-04 08:33:27 -0000 (Tue, 04 Feb 2025) EllapsedTime: 534.8 seconds RetCode: 0 Status: OK CheckDir: MAIT.Rcheck Warnings: 0