Package: MANOR Version: 1.78.0 Command: /Library/Frameworks/R.framework/Resources/bin/R CMD INSTALL MANOR StartedAt: 2025-02-10 15:05:05 -0500 (Mon, 10 Feb 2025) EndedAt: 2025-02-10 15:05:48 -0500 (Mon, 10 Feb 2025) EllapsedTime: 43.7 seconds RetCode: 0 Status: OK