Package: MANOR Version: 1.78.0 Command: /home/biocbuild/R/R/bin/R CMD INSTALL MANOR StartedAt: 2025-02-03 20:23:06 -0000 (Mon, 03 Feb 2025) EndedAt: 2025-02-03 20:23:52 -0000 (Mon, 03 Feb 2025) EllapsedTime: 45.5 seconds RetCode: 1 Status: ERROR