Package: MAST Version: 1.32.0 Command: rm -rf MAST.buildbin-libdir && mkdir MAST.buildbin-libdir && /Users/biocbuild/BBS/utils/build-universal.sh MAST_1.32.0.tar.gz /Library/Frameworks/R.framework/Resources/bin/R MAST.buildbin-libdir StartedAt: 2025-02-11 13:40:19 -0500 (Tue, 11 Feb 2025) EndedAt: 2025-02-11 13:42:55 -0500 (Tue, 11 Feb 2025) EllapsedTime: 156.0 seconds RetCode: 0 Status: OK PackageFile: MAST_1.32.0.tgz PackageFileSize: 7.909 MiB