Package: MAST Version: 1.32.0 Command: /Library/Frameworks/R.framework/Resources/bin/R CMD build --keep-empty-dirs --no-resave-data MAST StartedAt: 2025-02-10 20:02:01 -0500 (Mon, 10 Feb 2025) EndedAt: 2025-02-10 20:12:36 -0500 (Mon, 10 Feb 2025) EllapsedTime: 635.1 seconds RetCode: 0 Status: OK PackageFile: MAST_1.32.0.tar.gz PackageFileSize: 7.203 MiB