Package: MAST Version: 1.32.0 Command: /Library/Frameworks/R.framework/Resources/bin/R CMD check --install=check:MAST.install-out.txt --library=/Library/Frameworks/R.framework/Resources/library --no-vignettes --timings MAST_1.32.0.tar.gz StartedAt: 2025-02-11 05:53:00 -0500 (Tue, 11 Feb 2025) EndedAt: 2025-02-11 06:03:28 -0500 (Tue, 11 Feb 2025) EllapsedTime: 627.8 seconds RetCode: 0 Status: WARNINGS CheckDir: MAST.Rcheck Warnings: 1