Package: MBCB Version: 1.60.0 Command: /Library/Frameworks/R.framework/Resources/bin/R CMD build --keep-empty-dirs --no-resave-data MBCB StartedAt: 2025-02-04 02:39:29 -0500 (Tue, 04 Feb 2025) EndedAt: 2025-02-04 02:39:42 -0500 (Tue, 04 Feb 2025) EllapsedTime: 12.5 seconds RetCode: 0 Status: OK PackageFile: MBCB_1.60.0.tar.gz PackageFileSize: 408.8 KiB