Package: MBCB Version: 1.60.0 Command: chmod a+r MBCB -R && F:\biocbuild\bbs-3.20-bioc\R\bin\R.exe CMD build --keep-empty-dirs --no-resave-data MBCB StartedAt: 2025-02-10 20:03:58 -0500 (Mon, 10 Feb 2025) EndedAt: 2025-02-10 20:04:15 -0500 (Mon, 10 Feb 2025) EllapsedTime: 16.2 seconds RetCode: 0 Status: OK PackageFile: MBCB_1.60.0.tar.gz PackageFileSize: 317.1 KiB