Package: MBECS Version: 1.10.0 Command: /Library/Frameworks/R.framework/Resources/bin/R CMD build --keep-empty-dirs --no-resave-data MBECS StartedAt: 2025-02-04 02:39:42 -0500 (Tue, 04 Feb 2025) EndedAt: 2025-02-04 02:40:59 -0500 (Tue, 04 Feb 2025) EllapsedTime: 77.2 seconds RetCode: 0 Status: OK PackageFile: MBECS_1.10.0.tar.gz PackageFileSize: 1.722 MiB