Package: MBECS Version: 1.10.0 Command: /Library/Frameworks/R.framework/Resources/bin/R CMD build --keep-empty-dirs --no-resave-data MBECS StartedAt: 2025-02-03 20:04:09 -0500 (Mon, 03 Feb 2025) EndedAt: 2025-02-03 20:06:39 -0500 (Mon, 03 Feb 2025) EllapsedTime: 150.5 seconds RetCode: 0 Status: OK PackageFile: MBECS_1.10.0.tar.gz PackageFileSize: 1.722 MiB