Package: MBECS Version: 1.10.0 Command: /Library/Frameworks/R.framework/Resources/bin/R CMD INSTALL MBECS StartedAt: 2025-02-03 16:28:12 -0500 (Mon, 03 Feb 2025) EndedAt: 2025-02-03 16:28:57 -0500 (Mon, 03 Feb 2025) EllapsedTime: 45.0 seconds RetCode: 0 Status: OK