Package: MBECS Version: 1.10.0 Command: /home/biocbuild/R/R/bin/R CMD build --keep-empty-dirs --no-resave-data MBECS StartedAt: 2025-02-04 00:41:50 -0000 (Tue, 04 Feb 2025) EndedAt: 2025-02-04 00:43:17 -0000 (Tue, 04 Feb 2025) EllapsedTime: 87.0 seconds RetCode: 0 Status: OK PackageFile: MBECS_1.10.0.tar.gz PackageFileSize: 1.485 MiB