Package: MBECS Version: 1.10.0 Command: /home/biocbuild/R/R/bin/R CMD check --install=check:MBECS.install-out.txt --library=/home/biocbuild/R/R/site-library --no-vignettes --timings MBECS_1.10.0.tar.gz StartedAt: 2025-02-04 08:28:09 -0000 (Tue, 04 Feb 2025) EndedAt: 2025-02-04 08:33:07 -0000 (Tue, 04 Feb 2025) EllapsedTime: 298.4 seconds RetCode: 0 Status: OK CheckDir: MBECS.Rcheck Warnings: 0