Package: MBQN Version: 2.18.0 Command: /Library/Frameworks/R.framework/Resources/bin/R CMD check --install=check:MBQN.install-out.txt --library=/Library/Frameworks/R.framework/Resources/library --no-vignettes --timings MBQN_2.18.0.tar.gz StartedAt: 2025-02-01 00:07:15 -0500 (Sat, 01 Feb 2025) EndedAt: 2025-02-01 00:07:48 -0500 (Sat, 01 Feb 2025) EllapsedTime: 32.8 seconds RetCode: 0 Status: OK CheckDir: MBQN.Rcheck Warnings: 0