Package: MBQN Version: 2.18.0 Command: /Library/Frameworks/R.framework/Resources/bin/R CMD INSTALL MBQN StartedAt: 2025-02-10 15:54:12 -0500 (Mon, 10 Feb 2025) EndedAt: 2025-02-10 15:54:18 -0500 (Mon, 10 Feb 2025) EllapsedTime: 6.3 seconds RetCode: 0 Status: OK